BEGIN:VCALENDAR
VERSION:2.0
PRODID:-//Squarespace Inc/Squarespace 6//v6//EN
BEGIN:VEVENT
UID:5e2b73f445febb404ec3dea8@squarespace.com
DTSTAMP:20200124T230835Z
DTSTART:20200222T013000Z
DTEND:20200222T100000Z
SUMMARY:Gin Palace Goes Coastal with Great Ocean Road GIn
GEO:-38.45856;144.10728
LOCATION:Great Ocean Road Gin Tasting Room\, 32 Great Ocean Road\, Aireys I
 nlet\, VIC\, 3231\, Australia
END:VEVENT
END:VCALENDAR
