BEGIN:VCALENDAR
VERSION:2.0
PRODID:-//Squarespace Inc/Squarespace 6//v6//EN
BEGIN:VEVENT
UID:5e2b7d0566612668acc5914f@squarespace.com
DTSTAMP:20200125T000245Z
DTSTART:20200215T000000Z
DTEND:20200215T060000Z
SUMMARY:Geelong Wine Walk
END:VEVENT
END:VCALENDAR
