BEGIN:VCALENDAR
VERSION:2.0
PRODID:-//Squarespace Inc/Squarespace 6//v6//EN
BEGIN:VEVENT
UID:5e2b797f56bed40166bd3175@squarespace.com
DTSTAMP:20200124T232104Z
DTSTART:20200201T030000Z
DTEND:20200201T050000Z
SUMMARY:Gin Garden Party - Siglo Rooftop
GEO:-37.810957;144.972434
LOCATION:Siglo - Rooftop Bar\, Level 2\, 161 Spring Street\, Melbourne
END:VEVENT
END:VCALENDAR
