BEGIN:VCALENDAR
VERSION:2.0
PRODID:-//Squarespace Inc/Squarespace 6//v6//EN
BEGIN:VEVENT
UID:5d48c067d9c9390001ce5c6e@squarespace.com
DTSTAMP:20200125T005013Z
DTSTART:20200201T000000Z
DTEND:20200202T070000Z
SUMMARY:The Summer Gin Market 
GEO:-37.797026;144.984831
LOCATION:The Craft & Co\, 390 Smith Street\, Collingwood\, VIC\, 3066\, Aus
 tralia
END:VEVENT
END:VCALENDAR
