BEGIN:VCALENDAR
VERSION:2.0
PRODID:-//Squarespace Inc/Squarespace 6//v6//EN
BEGIN:VEVENT
UID:5d5c9b90c3e6df0001a5ffb8@squarespace.com
DTSTAMP:20190821T232427Z
DTSTART:20190905T083000Z
DTEND:20190905T123000Z
SUMMARY:The 2019 Independent Beer Awards at BrewCon
END:VEVENT
END:VCALENDAR
