BEGIN:VCALENDAR
VERSION:2.0
PRODID:-//Squarespace Inc/Squarespace 6//v6//EN
BEGIN:VEVENT
UID:5d5c9a3cef1a8f00012121ad@squarespace.com
DTSTAMP:20190821T012713Z
DTSTART:20190919T073000Z
DTEND:20190919T103000Z
SUMMARY:The Story of the Road - Apollo Bay
GEO:-38.760089;143.671496
LOCATION:Mechanics Institute Apollo Bay\, 21 Great Ocean Road\, Apollo Bay\
 , VIC\, 3233\, Australia
END:VEVENT
END:VCALENDAR
