BEGIN:VCALENDAR
VERSION:2.0
PRODID:-//Squarespace Inc/Squarespace 6//v6//EN
BEGIN:VEVENT
UID:5d5c98390be60e00010cf7ae@squarespace.com
DTSTAMP:20190821T012701Z
DTSTART:20190918T083000Z
DTEND:20190918T103000Z
SUMMARY:The Story of the Road - Lorne
GEO:-38.539207;143.975108
LOCATION:Lorne Theatre\, 78 Mountjoy Parade\, Lorne\, Victoria\, Australia
END:VEVENT
END:VCALENDAR
