BEGIN:VCALENDAR
VERSION:2.0
PRODID:-//Squarespace Inc/Squarespace 6//v6//EN
BEGIN:VEVENT
UID:5d103e327afa91000128a75c@squarespace.com
DTSTAMP:20190624T225651Z
DTSTART:20190706T060000Z
DTEND:20190707T110000Z
SUMMARY:The Design Exchange Winter Market Ballarat
END:VEVENT
END:VCALENDAR
