BEGIN:VCALENDAR
VERSION:2.0
PRODID:-//Squarespace Inc/Squarespace 6//v6//EN
BEGIN:VEVENT
UID:5d103c7db3f1e7000157d881@squarespace.com
DTSTAMP:20190624T030617Z
DTSTART:20190706T023000Z
DTEND:20190706T050000Z
SUMMARY:Sense of Place Lunch – Gin Palace
END:VEVENT
END:VCALENDAR
