BEGIN:VCALENDAR
VERSION:2.0
PRODID:-//Squarespace Inc/Squarespace 6//v6//EN
BEGIN:VEVENT
UID:5d1042dd495118000184fd51@squarespace.com
DTSTAMP:20190624T032919Z
DTSTART:20190726T220000Z
DTEND:20190727T030000Z
SUMMARY:Abbotsford Convent Farmers Market 
END:VEVENT
END:VCALENDAR
