BEGIN:VCALENDAR
VERSION:2.0
PRODID:-//Squarespace Inc/Squarespace 6//v6//EN
BEGIN:VEVENT
UID:5d10438fa6630100018ba82d@squarespace.com
DTSTAMP:20190624T033010Z
DTSTART:20190823T220000Z
DTEND:20190824T030000Z
SUMMARY:Abbotsford Convent Farmers Market 
END:VEVENT
END:VCALENDAR
