BEGIN:VCALENDAR
VERSION:2.0
PRODID:-//Squarespace Inc/Squarespace 6//v6//EN
BEGIN:VEVENT
UID:5d103f4b247fa10001fd0363@squarespace.com
DTSTAMP:20190624T032429Z
DTSTART:20190719T220000Z
DTEND:20190720T030000Z
SUMMARY:Gasworks Farmers Market
END:VEVENT
END:VCALENDAR
