BEGIN:VCALENDAR
VERSION:2.0
PRODID:-//Squarespace Inc/Squarespace 6//v6//EN
BEGIN:VEVENT
UID:5d103ff95664b20001001020@squarespace.com
DTSTAMP:20190624T032508Z
DTSTART:20190816T220000Z
DTEND:20190817T030000Z
SUMMARY:Gasworks Farmers Market
END:VEVENT
END:VCALENDAR
