BEGIN:VCALENDAR
VERSION:2.0
PRODID:-//Squarespace Inc/Squarespace 6//v6//EN
BEGIN:VEVENT
UID:5d1038d4bdbb9800018ddc65@squarespace.com
DTSTAMP:20190624T025005Z
DTSTART:20190719T090000Z
DTEND:20190719T110000Z
SUMMARY:GORG Gin Cocktails &amp\; GORGEOUS Desserts
GEO:-38.45856;144.10728
LOCATION:Great Ocean Road Gin Tasting Room\, 32 Great Ocean Road\, Aireys I
 nlet\, VIC\, 3231\, Australia
END:VEVENT
END:VCALENDAR
