BEGIN:VCALENDAR
VERSION:2.0
PRODID:-//Squarespace Inc/Squarespace 6//v6//EN
BEGIN:VEVENT
UID:5d9698086e72770aaab59ef6@squarespace.com
DTSTAMP:20191004T011057Z
DTSTART:20191130T000000Z
DTEND:20191130T070000Z
SUMMARY:Gin &amp\; Craft Spirits Market
GEO:-37.816263;145.012072
LOCATION:Brogan's Way Distillery\, 61 North Street\, Richmond\, VIC 3121
END:VEVENT
END:VCALENDAR
