BEGIN:VCALENDAR
VERSION:2.0
PRODID:-//Squarespace Inc/Squarespace 6//v6//EN
BEGIN:VEVENT
UID:5d96999241d186118765a536@squarespace.com
DTSTAMP:20191004T011006Z
DTSTART:20191117T000000Z
DTEND:20191117T063000Z
SUMMARY:East Malvern Food + Wine Festival 2019
END:VEVENT
END:VCALENDAR
