BEGIN:VCALENDAR
VERSION:2.0
PRODID:-//Squarespace Inc/Squarespace 6//v6//EN
BEGIN:VEVENT
UID:5d969c7067c2d8250b4e9923@squarespace.com
DTSTAMP:20191004T043112Z
DTSTART:20191004T063000Z
DTEND:20191025T083000Z
SUMMARY:Friday Night Knock Offs
GEO:-38.461511;144.105766
LOCATION:Great Ocean Road Gin Tasting Room\, AIRIES INLET
END:VEVENT
END:VCALENDAR
