BEGIN:VCALENDAR
VERSION:2.0
PRODID:-//Squarespace Inc/Squarespace 6//v6//EN
BEGIN:VEVENT
UID:5d104022db9e920001d273f3@squarespace.com
DTSTAMP:20191004T010837Z
DTSTART:20191026T000000Z
DTEND:20191027T090000Z
SUMMARY:Junipalooza
END:VEVENT
END:VCALENDAR
