BEGIN:VCALENDAR
VERSION:2.0
PRODID:-//Squarespace Inc/Squarespace 6//v6//EN
BEGIN:VEVENT
UID:5d969fb767c2d8250b4edc8e@squarespace.com
DTSTAMP:20191004T015727Z
DTSTART:20191018T083000Z
DTEND:20191018T103000Z
SUMMARY:How to make GORGeous Gin Cocktails
GEO:-38.45856;144.10728
LOCATION:Great Ocean Road Gin Tasting Room\, 32 Great Ocean Road\, Aireys I
 nlet\, VIC 3231
END:VEVENT
END:VCALENDAR
